BEGIN:VCALENDAR
METHOD:PUBLISH
VERSION:2.0
CALSCALE:GREGORIAN
PRODID:-//NONSGML Sandhills Development\, LLC//NONSGML Sugar Calendar Fe
 eds v3.7.3//EN
X-WR-CALNAME:Annual Holiday Sing Along
X-WR-CALDESC:Lake Chelan Wine Valley
X-WR-TIMEZONE:America/Los_Angeles
BEGIN:VTIMEZONE
TZID:America/Los_Angeles
BEGIN:STANDARD
TZOFFSETFROM:-0700
TZOFFSETTO:-0800
DTSTART:20251102T090000
TZNAME:PST
END:STANDARD
END:VTIMEZONE
BEGIN:VTIMEZONE
TZID:America/Los_Angeles
BEGIN:STANDARD
TZOFFSETFROM:-0700
TZOFFSETTO:-0800
DTSTART:20251102T090000
TZNAME:PST
END:STANDARD
END:VTIMEZONE
BEGIN:VEVENT
SUMMARY:Annual Holiday Sing Along
DESCRIPTION:Siren Song’s Annual Holiday Sing Along Features Live Music
  to Celebrate the Holiday Season. Join us at the Siren Song Winery for l
 ive music featuring Mac Potts. We’ll sing along to your favorite holid
 ay tunes. Siren Song award-winning wines\, curated cocktails\, and food 
 will be available for purchase throughout the evening.\n\nNo cover charg
 e to attend the sing along but Free Tickets are required to ensure your 
 spot.
URL;VALUE=URI:https://lakechelanwinevalley.com/events/annual-holiday-sin
 g-along/
UID:urn:uuid:5144b676-a782-4b20-8070-90ed31fd16cd
STATUS:CONFIRMED
ORGANIZER:
DTSTAMP:20260423T090947Z
DTSTART;TZID=America/Los_Angeles:20251219T173000
DTEND;TZID=America/Los_Angeles:20251219T203000
LOCATION:635 S Lakeshore Rd
END:VEVENT
END:VCALENDAR