BEGIN:VCALENDAR
METHOD:PUBLISH
VERSION:2.0
CALSCALE:GREGORIAN
PRODID:-//NONSGML Sandhills Development\, LLC//NONSGML Sugar Calendar Fe
 eds v3.7.3//EN
X-WR-CALNAME:Chelan Valley Farms Flower Workshop
X-WR-CALDESC:Lake Chelan Wine Valley
X-WR-TIMEZONE:America/Los_Angeles
BEGIN:VTIMEZONE
TZID:America/Los_Angeles
BEGIN:DAYLIGHT
TZOFFSETFROM:-0800
TZOFFSETTO:-0700
DTSTART:20250309T100000
TZNAME:PDT
END:DAYLIGHT
END:VTIMEZONE
BEGIN:VTIMEZONE
TZID:America/Los_Angeles
BEGIN:DAYLIGHT
TZOFFSETFROM:-0800
TZOFFSETTO:-0700
DTSTART:20250309T100000
TZNAME:PDT
END:DAYLIGHT
END:VTIMEZONE
BEGIN:VEVENT
SUMMARY:Chelan Valley Farms Flower Workshop
DESCRIPTION:Learn how use the Pantone Color of the Year\, Mocha Mousse\,
  in your flower bouquets!  Reserve your spot at chelanvalleyfarms.com.
URL;VALUE=URI:https://lakechelanwinevalley.com/events/chelan-valley-farm
 s-flower-workshop/
UID:urn:uuid:0f812ddd-e6bc-4217-8d3c-b150e8773944
STATUS:CONFIRMED
ORGANIZER:
DTSTAMP:20260422T092557Z
DTSTART;TZID=America/Los_Angeles:20250726T090000
DTEND;TZID=America/Los_Angeles:20250726T103000
LOCATION:2393 Green Ave
END:VEVENT
END:VCALENDAR