BEGIN:VCALENDAR
METHOD:PUBLISH
VERSION:2.0
CALSCALE:GREGORIAN
PRODID:-//NONSGML Sandhills Development\, LLC//NONSGML Sugar Calendar Fe
 eds v3.7.3//EN
X-WR-CALNAME:Fielding Hills - Red Wine + Chocolate
X-WR-CALDESC:Lake Chelan Wine Valley
X-WR-TIMEZONE:America/Los_Angeles
BEGIN:VTIMEZONE
TZID:America/Los_Angeles
BEGIN:STANDARD
TZOFFSETFROM:-0700
TZOFFSETTO:-0800
DTSTART:20251102T090000
TZNAME:PST
END:STANDARD
END:VTIMEZONE
BEGIN:VTIMEZONE
TZID:America/Los_Angeles
BEGIN:STANDARD
TZOFFSETFROM:-0700
TZOFFSETTO:-0800
DTSTART:20251102T090000
TZNAME:PST
END:STANDARD
END:VTIMEZONE
BEGIN:VEVENT
SUMMARY:Fielding Hills - Red Wine + Chocolate
DESCRIPTION:Ever tasted a 25 year old bottle of wine?? Join Jaime Donega
 n and Megan Mitchell on February 21st as we celebrate Open That Bottle N
 ight. This international wine holiday encourages folks to uncork the win
 es they’ve been saving for a special occasion. Jaime and Megan have du
 g through the cellar and put together a tasting experience that is 25 ye
 ars in the making. Tickets and details can be found by visiting fielding
 hills.com. Tickets are $45.00/person with specialty discounts for wine c
 lub members.
URL;VALUE=URI:https://lakechelanwinevalley.com/events/fielding-hills-red
 -wine-chocolate/
UID:urn:uuid:6234eb2a-e726-44b4-aa03-b805aa805b2b
STATUS:CONFIRMED
ORGANIZER:
DTSTAMP:20260423T091128Z
DTSTART;TZID=America/Los_Angeles:20260221T173000
DTEND;TZID=America/Los_Angeles:20260221T193000
LOCATION:565 South Lakeshore Rd
END:VEVENT
END:VCALENDAR