BEGIN:VCALENDAR
METHOD:PUBLISH
VERSION:2.0
CALSCALE:GREGORIAN
PRODID:-//NONSGML Sandhills Development\, LLC//NONSGML Sugar Calendar Fe
 eds v3.7.3//EN
X-WR-CALNAME:Live Music at Tsillan Cellars: Chris Anderson
X-WR-CALDESC:Lake Chelan Wine Valley
X-WR-TIMEZONE:America/Los_Angeles
BEGIN:VTIMEZONE
TZID:America/Los_Angeles
BEGIN:STANDARD
TZOFFSETFROM:-0700
TZOFFSETTO:-0800
DTSTART:20241103T090000
TZNAME:PST
END:STANDARD
END:VTIMEZONE
BEGIN:VTIMEZONE
TZID:America/Los_Angeles
BEGIN:STANDARD
TZOFFSETFROM:-0700
TZOFFSETTO:-0800
DTSTART:20241103T090000
TZNAME:PST
END:STANDARD
END:VTIMEZONE
BEGIN:VEVENT
SUMMARY:Live Music at Tsillan Cellars: Chris Anderson
DESCRIPTION:Join us for live music from 1-4pm in the tasting room!
URL;VALUE=URI:https://lakechelanwinevalley.com/events/live-music-at-tsil
 lan-cellars-chris-anderson/
UID:urn:uuid:9b347465-1165-4737-90d8-bdf35715d27d
STATUS:CONFIRMED
ORGANIZER:
DTSTAMP:20260421T082827Z
DTSTART;TZID=America/Los_Angeles:20241207T130000
DTEND;TZID=America/Los_Angeles:20241207T160000
LOCATION:Tsillan Cellars\, 3875 US-97 ALT\, Chelan\, WA 98816
END:VEVENT
END:VCALENDAR