BEGIN:VCALENDAR
METHOD:PUBLISH
VERSION:2.0
CALSCALE:GREGORIAN
PRODID:-//NONSGML Sandhills Development\, LLC//NONSGML Sugar Calendar Fe
 eds v3.7.3//EN
X-WR-CALNAME:Tipsy Canyon Live Music: Ben Naught
X-WR-CALDESC:Lake Chelan Wine Valley
X-WR-TIMEZONE:America/Los_Angeles
BEGIN:VTIMEZONE
TZID:America/Los_Angeles
BEGIN:STANDARD
TZOFFSETFROM:-0700
TZOFFSETTO:-0800
DTSTART:20251102T090000
TZNAME:PST
END:STANDARD
END:VTIMEZONE
BEGIN:VTIMEZONE
TZID:America/Los_Angeles
BEGIN:STANDARD
TZOFFSETFROM:-0700
TZOFFSETTO:-0800
DTSTART:20251102T090000
TZNAME:PST
END:STANDARD
END:VTIMEZONE
BEGIN:VEVENT
SUMMARY:Tipsy Canyon Live Music: Ben Naught
DESCRIPTION:Tipsy Canyon Winery is excited to bring you an afternoon of 
 live music by Ben Naught.\n\nBen Naught's music resonates with the soulf
 ul essence of rural America. Born and raised in the heart of Eastern Was
 hington\, Ben's connection to the countryside runs deep. His songs paint
  vivid pictures of life in small towns\, echoing the resilience and raw 
 beauty of the landscapes that shaped him.\n\nFrom soulful ballads that t
 ug at the heartstrings to foot-stomping anthems that ignite the dance fl
 oor\, Ben's versatility as a performer shines through. Whether he's play
 ing to a small\, intimate crowd or commanding the stage at a packed venu
 e\, Ben's magnetic presence leaves a lasting impression on audiences nea
 r and far.\n\nSo pull up a seat\, grab a glass of wine\, and get ready t
 o enjoy a fantastic afternoon with live music by Ben Naught!
URL;VALUE=URI:https://lakechelanwinevalley.com/events/tipsy-canyon-live-
 music-virgil-eagle-2-2-2/
UID:urn:uuid:dce2832c-c5ca-474f-9a90-899295badbbb
STATUS:CONFIRMED
ORGANIZER:
DTSTAMP:20260421T095247Z
DTSTART;TZID=America/Los_Angeles:20260115T160000
DTEND;TZID=America/Los_Angeles:20260115T180000
LOCATION:270 Upper Joe Creek Rd
END:VEVENT
END:VCALENDAR