BEGIN:VCALENDAR
METHOD:PUBLISH
VERSION:2.0
CALSCALE:GREGORIAN
PRODID:-//NONSGML Sandhills Development\, LLC//NONSGML Sugar Calendar Fe
 eds v3.7.3//EN
X-WR-CALNAME:Tipsy Canyon Winery Live Music: Dan Quigley
X-WR-CALDESC:Lake Chelan Wine Valley
X-WR-TIMEZONE:America/Los_Angeles
BEGIN:VTIMEZONE
TZID:America/Los_Angeles
BEGIN:STANDARD
TZOFFSETFROM:-0700
TZOFFSETTO:-0800
DTSTART:20241103T090000
TZNAME:PST
END:STANDARD
BEGIN:DAYLIGHT
TZOFFSETFROM:-0800
TZOFFSETTO:-0700
DTSTART:20250309T100000
TZNAME:PDT
END:DAYLIGHT
END:VTIMEZONE
BEGIN:VTIMEZONE
TZID:America/Los_Angeles
BEGIN:STANDARD
TZOFFSETFROM:-0700
TZOFFSETTO:-0800
DTSTART:20241103T090000
TZNAME:PST
END:STANDARD
BEGIN:DAYLIGHT
TZOFFSETFROM:-0800
TZOFFSETTO:-0700
DTSTART:20250309T100000
TZNAME:PDT
END:DAYLIGHT
END:VTIMEZONE
BEGIN:VEVENT
SUMMARY:Tipsy Canyon Winery Live Music: Dan Quigley
DESCRIPTION:Tipsy Canyon Winery is excited to bring you live music from 
 the local talented pianist\, Dan Quigley.\n\nSo kick up your feet\, enjo
 y a tasty glass of wine\, and savor every sound from the piano as Dan Qu
 igley performs live.
URL;VALUE=URI:https://lakechelanwinevalley.com/events/tipsy-canyon-winer
 y-live-music-dan-quigley/
UID:urn:uuid:c0331dd1-438b-4138-ae46-5af509af5d9f
STATUS:CONFIRMED
ORGANIZER:
DTSTAMP:20260422T092739Z
DTSTART;TZID=America/Los_Angeles:20250501T160000
DTEND;TZID=America/Los_Angeles:20250501T180000
LOCATION:270 Upper Joe Creek Rd
END:VEVENT
END:VCALENDAR